BEGIN:VCALENDAR
VERSION:2.0
PRODID:-//Helsingin Kaukalopallo Ry//Ottelukalenteri//FI
CALSCALE:GREGORIAN
BEGIN:VEVENT
DTSTART:20250905T174500Z
DTEND:20250905T194500Z
UID:25533
DTSTAMP:20260424T080952Z
DESCRIPTION:Tuomarit: Viita Olli
LOCATION:Myllypuro 1
SUMMARY:Marjanpoimijat - Pirkkolan Sudet\, Myllypuro 1
BEGIN:VALARM
TRIGGER:-PT60M
ACTION:DISPLAY
END:VALARM
END:VEVENT
BEGIN:VEVENT
DTSTART:20250917T181500Z
DTEND:20250917T201500Z
UID:25536
DTSTAMP:20260424T080952Z
DESCRIPTION:Tuomarit: Viippola Veli-Matti 
LOCATION:Paloheinä 2
SUMMARY:Pirkkolan Sudet - R.O.U.\, Paloheinä 2
BEGIN:VALARM
TRIGGER:-PT60M
ACTION:DISPLAY
END:VALARM
END:VEVENT
BEGIN:VEVENT
DTSTART:20250926T174500Z
DTEND:20250926T194500Z
UID:25540
DTSTAMP:20260424T080952Z
DESCRIPTION:Tuomarit: Silvast Juha
LOCATION:Myllypuro 1
SUMMARY:Helsingin Hokkarit - Pirkkolan Sudet\, Myllypuro 1
BEGIN:VALARM
TRIGGER:-PT60M
ACTION:DISPLAY
END:VALARM
END:VEVENT
BEGIN:VEVENT
DTSTART:20251001T181500Z
DTEND:20251001T201500Z
UID:25542
DTSTAMP:20260424T080952Z
DESCRIPTION:Tuomarit: Viita Olli
LOCATION:Paloheinä 2
SUMMARY:Pirkkolan Sudet - Tsunami NLA\, Paloheinä 2
BEGIN:VALARM
TRIGGER:-PT60M
ACTION:DISPLAY
END:VALARM
END:VEVENT
BEGIN:VEVENT
DTSTART:20251015T181500Z
DTEND:20251015T201500Z
UID:25546
DTSTAMP:20260424T080952Z
DESCRIPTION:Tuomarit: Henttonen Jarkko
LOCATION:Paloheinä 2
SUMMARY:Pirkkolan Sudet - Korson Pallo II\, Paloheinä 2
BEGIN:VALARM
TRIGGER:-PT60M
ACTION:DISPLAY
END:VALARM
END:VEVENT
BEGIN:VEVENT
DTSTART:20251029T191500Z
DTEND:20251029T211500Z
UID:25551
DTSTAMP:20260424T080952Z
DESCRIPTION:Tuomarit: Viita Olli
LOCATION:Paloheinä 2
SUMMARY:Pirkkolan Sudet - BG-86\, Paloheinä 2
BEGIN:VALARM
TRIGGER:-PT60M
ACTION:DISPLAY
END:VALARM
END:VEVENT
BEGIN:VEVENT
DTSTART:20251103T194500Z
DTEND:20251103T214500Z
UID:25553
DTSTAMP:20260424T080952Z
DESCRIPTION:Tuomarit: Lintula Olli-Pekka
LOCATION:Espoonlahti 1
SUMMARY:Pallokerho 2 - Pirkkolan Sudet\, Espoonlahti 1
BEGIN:VALARM
TRIGGER:-PT60M
ACTION:DISPLAY
END:VALARM
END:VEVENT
BEGIN:VEVENT
DTSTART:20251112T191500Z
DTEND:20251112T211500Z
UID:25556
DTSTAMP:20260424T080952Z
DESCRIPTION:Tuomarit: Hyväri Tero
LOCATION:Paloheinä 2
SUMMARY:Pirkkolan Sudet - Tsunami NLA\, Paloheinä 2
BEGIN:VALARM
TRIGGER:-PT60M
ACTION:DISPLAY
END:VALARM
END:VEVENT
BEGIN:VEVENT
DTSTART:20251123T191500Z
DTEND:20251123T211500Z
UID:25560
DTSTAMP:20260424T080952Z
DESCRIPTION:Tuomarit: Niemensivu Tapio
LOCATION:Vuosaari 2
SUMMARY:R.O.U. - Pirkkolan Sudet\, Vuosaari 2
BEGIN:VALARM
TRIGGER:-PT60M
ACTION:DISPLAY
END:VALARM
END:VEVENT
BEGIN:VEVENT
DTSTART:20251212T184500Z
DTEND:20251212T204500Z
UID:25529
DTSTAMP:20260424T080952Z
DESCRIPTION:Tuomarit: Silvast Juha
LOCATION:Myllypuro 1
SUMMARY:Marjanpoimijat - Pirkkolan Sudet\, Myllypuro 1
BEGIN:VALARM
TRIGGER:-PT60M
ACTION:DISPLAY
END:VALARM
END:VEVENT
BEGIN:VEVENT
DTSTART:20260107T191500Z
DTEND:20260107T211500Z
UID:25572
DTSTAMP:20260424T080952Z
DESCRIPTION:Tuomarit: Lehtonen Ari
LOCATION:Paloheinä 2
SUMMARY:Pirkkolan Sudet - Helsingin Hokkarit\, Paloheinä 2
BEGIN:VALARM
TRIGGER:-PT60M
ACTION:DISPLAY
END:VALARM
END:VEVENT
BEGIN:VEVENT
DTSTART:20260113T191500Z
DTEND:20260113T211500Z
UID:25575
DTSTAMP:20260424T080952Z
DESCRIPTION:Tuomarit: Henttonen Jarkko
LOCATION:Paloheinä 2
SUMMARY:BG-86 - Pirkkolan Sudet\, Paloheinä 2
BEGIN:VALARM
TRIGGER:-PT60M
ACTION:DISPLAY
END:VALARM
END:VEVENT
BEGIN:VEVENT
DTSTART:20260122T200000Z
DTEND:20260122T220000Z
UID:25578
DTSTAMP:20260424T080952Z
DESCRIPTION:Tuomarit: Hyväri Tero
LOCATION:Tikkurila 1
SUMMARY:Korson Pallo II - Pirkkolan Sudet\, Tikkurila 1
BEGIN:VALARM
TRIGGER:-PT60M
ACTION:DISPLAY
END:VALARM
END:VEVENT
BEGIN:VEVENT
DTSTART:20260204T191500Z
DTEND:20260204T211500Z
UID:25585
DTSTAMP:20260424T080952Z
DESCRIPTION:Tuomarit: Hyväri Tero
LOCATION:Paloheinä 2
SUMMARY:Pirkkolan Sudet - Pallokerho 2\, Paloheinä 2
BEGIN:VALARM
TRIGGER:-PT60M
ACTION:DISPLAY
END:VALARM
END:VEVENT
BEGIN:VEVENT
DTSTART:20260218T191500Z
DTEND:20260218T211500Z
UID:25589
DTSTAMP:20260424T080952Z
DESCRIPTION:Tuomarit: Viita Olli
LOCATION:Paloheinä 2
SUMMARY:Pirkkolan Sudet - Marjanpoimijat\, Paloheinä 2
BEGIN:VALARM
TRIGGER:-PT60M
ACTION:DISPLAY
END:VALARM
END:VEVENT
BEGIN:VEVENT
DTSTART:20260227T184500Z
DTEND:20260227T204500Z
UID:25591
DTSTAMP:20260424T080952Z
DESCRIPTION:Tuomarit: Viita Olli
LOCATION:Myllypuro 1
SUMMARY:Helsingin Hokkarit - Pirkkolan Sudet\, Myllypuro 1
BEGIN:VALARM
TRIGGER:-PT60M
ACTION:DISPLAY
END:VALARM
END:VEVENT
BEGIN:VEVENT
DTSTART:20260306T193000Z
DTEND:20260306T213000Z
UID:25594
DTSTAMP:20260424T080952Z
DESCRIPTION:Tuomarit: Lintula Olli-Pekka
LOCATION:Espoonlahti 1
SUMMARY:Pallokerho 2 - Pirkkolan Sudet\, Espoonlahti 1
BEGIN:VALARM
TRIGGER:-PT60M
ACTION:DISPLAY
END:VALARM
END:VEVENT
BEGIN:VEVENT
DTSTART:20260318T191500Z
DTEND:20260318T211500Z
UID:25598
DTSTAMP:20260424T080952Z
DESCRIPTION:Tuomarit: Hyväri Tero
LOCATION:Paloheinä 2
SUMMARY:Pirkkolan Sudet - BG-86\, Paloheinä 2
BEGIN:VALARM
TRIGGER:-PT60M
ACTION:DISPLAY
END:VALARM
END:VEVENT
BEGIN:VEVENT
DTSTART:20260324T161500Z
DTEND:20260324T181500Z
UID:25568
DTSTAMP:20260424T080952Z
DESCRIPTION:Tuomarit: Hyväri Tero
LOCATION:Nummela 2
SUMMARY:Tsunami NLA - Pirkkolan Sudet\, Nummela 2
BEGIN:VALARM
TRIGGER:-PT60M
ACTION:DISPLAY
END:VALARM
END:VEVENT
BEGIN:VEVENT
DTSTART:20260401T181500Z
DTEND:20260401T201500Z
UID:25604
DTSTAMP:20260424T080952Z
DESCRIPTION:Tuomarit: Silvast Juha
LOCATION:Paloheinä 2
SUMMARY:Pirkkolan Sudet - R.O.U.\, Paloheinä 2
BEGIN:VALARM
TRIGGER:-PT60M
ACTION:DISPLAY
END:VALARM
END:VEVENT
BEGIN:VEVENT
DTSTART:20260415T181500Z
DTEND:20260415T201500Z
UID:25607
DTSTAMP:20260424T080952Z
DESCRIPTION:Tuomarit: Lehtonen Ari
LOCATION:Paloheinä 2
SUMMARY:Pirkkolan Sudet - Korson Pallo II\, Paloheinä 2
BEGIN:VALARM
TRIGGER:-PT60M
ACTION:DISPLAY
END:VALARM
END:VEVENT
BEGIN:VEVENT
DTSTART:20260420T181500Z
DTEND:20260420T201500Z
UID:25854
DTSTAMP:20260424T080952Z
DESCRIPTION:Tuomarit: Viita Olli
LOCATION:Paloheinä 2
SUMMARY:Pirkkolan Sudet - Tsunami NLA\, Paloheinä 2
BEGIN:VALARM
TRIGGER:-PT60M
ACTION:DISPLAY
END:VALARM
END:VEVENT
BEGIN:VEVENT
DTSTART:20260425T093000Z
DTEND:20260425T113000Z
UID:25865
DTSTAMP:20260424T080952Z
DESCRIPTION:Tuomarit: Silvast Juha\, Viita Olli
LOCATION:Myllypuro 1
SUMMARY: - Pirkkolan Sudet\, Myllypuro 1
BEGIN:VALARM
TRIGGER:-PT60M
ACTION:DISPLAY
END:VALARM
END:VEVENT
END:VCALENDAR