BEGIN:VCALENDAR
VERSION:2.0
PRODID:-//Helsingin Kaukalopallo Ry//Ottelukalenteri//FI
CALSCALE:GREGORIAN
BEGIN:VEVENT
DTSTART:20250907T181500Z
DTEND:20250907T201500Z
UID:25534
DTSTAMP:20260421T085934Z
DESCRIPTION:Tuomarit: Silvast Juha
LOCATION:Vuosaari 2
SUMMARY:BG-86 - Pallokerho 2\, Vuosaari 2
BEGIN:VALARM
TRIGGER:-PT60M
ACTION:DISPLAY
END:VALARM
END:VEVENT
BEGIN:VEVENT
DTSTART:20250918T190000Z
DTEND:20250918T210000Z
UID:25537
DTSTAMP:20260421T085934Z
DESCRIPTION:Tuomarit: Eväkoski Jarno
LOCATION:Tikkurila 2
SUMMARY:Korson Pallo II - Pallokerho 2\, Tikkurila 2
BEGIN:VALARM
TRIGGER:-PT60M
ACTION:DISPLAY
END:VALARM
END:VEVENT
BEGIN:VEVENT
DTSTART:20251007T151500Z
DTEND:20251007T171500Z
UID:25545
DTSTAMP:20260421T085934Z
DESCRIPTION:Tuomarit: Eväkoski Jarno
LOCATION:Nummela 2
SUMMARY:Tsunami NLA - Pallokerho 2\, Nummela 2
BEGIN:VALARM
TRIGGER:-PT60M
ACTION:DISPLAY
END:VALARM
END:VEVENT
BEGIN:VEVENT
DTSTART:20251010T183000Z
DTEND:20251010T203000Z
UID:25543
DTSTAMP:20260421T085934Z
DESCRIPTION:Tuomarit: Viippola Veli-Matti 
LOCATION:Espoonlahti 1
SUMMARY:Pallokerho 2 - Helsingin Hokkarit\, Espoonlahti 1
BEGIN:VALARM
TRIGGER:-PT60M
ACTION:DISPLAY
END:VALARM
END:VEVENT
BEGIN:VEVENT
DTSTART:20251028T191500Z
DTEND:20251028T211500Z
UID:25550
DTSTAMP:20260421T085934Z
DESCRIPTION:Tuomarit: Viita Olli
LOCATION:Paloheinä 2
SUMMARY:R.O.U. - Pallokerho 2\, Paloheinä 2
BEGIN:VALARM
TRIGGER:-PT60M
ACTION:DISPLAY
END:VALARM
END:VEVENT
BEGIN:VEVENT
DTSTART:20251103T194500Z
DTEND:20251103T214500Z
UID:25553
DTSTAMP:20260421T085934Z
DESCRIPTION:Tuomarit: Lintula Olli-Pekka
LOCATION:Espoonlahti 1
SUMMARY:Pallokerho 2 - Pirkkolan Sudet\, Espoonlahti 1
BEGIN:VALARM
TRIGGER:-PT60M
ACTION:DISPLAY
END:VALARM
END:VEVENT
BEGIN:VEVENT
DTSTART:20251127T200000Z
DTEND:20251127T220000Z
UID:25562
DTSTAMP:20260421T085934Z
DESCRIPTION:Tuomarit: Hyväri Tero
LOCATION:Tikkurila 1
SUMMARY:Korson Pallo II - Pallokerho 2\, Tikkurila 1
BEGIN:VALARM
TRIGGER:-PT60M
ACTION:DISPLAY
END:VALARM
END:VEVENT
BEGIN:VEVENT
DTSTART:20251205T193000Z
DTEND:20251205T213000Z
UID:25565
DTSTAMP:20260421T085934Z
DESCRIPTION:Tuomarit: Lintula Olli-Pekka
LOCATION:Espoonlahti 1
SUMMARY:Pallokerho 2 - BG-86\, Espoonlahti 1
BEGIN:VALARM
TRIGGER:-PT60M
ACTION:DISPLAY
END:VALARM
END:VEVENT
BEGIN:VEVENT
DTSTART:20260120T161500Z
DTEND:20260120T181500Z
UID:25577
DTSTAMP:20260421T085934Z
DESCRIPTION:Tuomarit: Eväkoski Jarno
LOCATION:Nummela 2
SUMMARY:Tsunami NLA - Pallokerho 2\, Nummela 2
BEGIN:VALARM
TRIGGER:-PT60M
ACTION:DISPLAY
END:VALARM
END:VEVENT
BEGIN:VEVENT
DTSTART:20260126T194500Z
DTEND:20260126T214500Z
UID:25580
DTSTAMP:20260421T085934Z
DESCRIPTION:Tuomarit: Valve Santeri
LOCATION:Espoonlahti 1
SUMMARY:Pallokerho 2 - R.O.U.\, Espoonlahti 1
BEGIN:VALARM
TRIGGER:-PT60M
ACTION:DISPLAY
END:VALARM
END:VEVENT
BEGIN:VEVENT
DTSTART:20260204T191500Z
DTEND:20260204T211500Z
UID:25585
DTSTAMP:20260421T085934Z
DESCRIPTION:Tuomarit: Hyväri Tero
LOCATION:Paloheinä 2
SUMMARY:Pirkkolan Sudet - Pallokerho 2\, Paloheinä 2
BEGIN:VALARM
TRIGGER:-PT60M
ACTION:DISPLAY
END:VALARM
END:VEVENT
BEGIN:VEVENT
DTSTART:20260209T194500Z
DTEND:20260209T214500Z
UID:25541
DTSTAMP:20260421T085934Z
DESCRIPTION:Tuomarit: Schuravleff Tony
LOCATION:Espoonlahti 1
SUMMARY:Pallokerho 2 - Marjanpoimijat\, Espoonlahti 1
BEGIN:VALARM
TRIGGER:-PT60M
ACTION:DISPLAY
END:VALARM
END:VEVENT
BEGIN:VEVENT
DTSTART:20260213T184500Z
DTEND:20260213T204500Z
UID:25587
DTSTAMP:20260421T085934Z
DESCRIPTION:Tuomarit: Silvast Juha
LOCATION:Myllypuro 1
SUMMARY:Helsingin Hokkarit - Pallokerho 2\, Myllypuro 1
BEGIN:VALARM
TRIGGER:-PT60M
ACTION:DISPLAY
END:VALARM
END:VEVENT
BEGIN:VEVENT
DTSTART:20260216T194500Z
DTEND:20260216T214500Z
UID:25590
DTSTAMP:20260421T085934Z
DESCRIPTION:Tuomarit: Schuravleff Tony
LOCATION:Espoonlahti 1
SUMMARY:Pallokerho 2 - Korson Pallo II\, Espoonlahti 1
BEGIN:VALARM
TRIGGER:-PT60M
ACTION:DISPLAY
END:VALARM
END:VEVENT
BEGIN:VEVENT
DTSTART:20260227T193000Z
DTEND:20260227T213000Z
UID:25592
DTSTAMP:20260421T085934Z
DESCRIPTION:Tuomarit: Antikainen Marko
LOCATION:Espoonlahti 1
SUMMARY:Pallokerho 2 - Tsunami NLA\, Espoonlahti 1
BEGIN:VALARM
TRIGGER:-PT60M
ACTION:DISPLAY
END:VALARM
END:VEVENT
BEGIN:VEVENT
DTSTART:20260301T190000Z
DTEND:20260301T210000Z
UID:25530
DTSTAMP:20260421T085934Z
DESCRIPTION:Tuomarit: Niemensivu Tapio
LOCATION:Vuosaari 1
SUMMARY:BG-86 - Pallokerho 2\, Vuosaari 1
BEGIN:VALARM
TRIGGER:-PT60M
ACTION:DISPLAY
END:VALARM
END:VEVENT
BEGIN:VEVENT
DTSTART:20260306T193000Z
DTEND:20260306T213000Z
UID:25594
DTSTAMP:20260421T085934Z
DESCRIPTION:Tuomarit: Lintula Olli-Pekka
LOCATION:Espoonlahti 1
SUMMARY:Pallokerho 2 - Pirkkolan Sudet\, Espoonlahti 1
BEGIN:VALARM
TRIGGER:-PT60M
ACTION:DISPLAY
END:VALARM
END:VEVENT
BEGIN:VEVENT
DTSTART:20260316T194500Z
DTEND:20260316T214500Z
UID:25597
DTSTAMP:20260421T085934Z
DESCRIPTION:Tuomarit: Schuravleff Tony
LOCATION:Espoonlahti 1
SUMMARY:Pallokerho 2 - Marjanpoimijat\, Espoonlahti 1
BEGIN:VALARM
TRIGGER:-PT60M
ACTION:DISPLAY
END:VALARM
END:VEVENT
BEGIN:VEVENT
DTSTART:20260327T193000Z
DTEND:20260327T213000Z
UID:25602
DTSTAMP:20260421T085934Z
DESCRIPTION:Tuomarit: Viippola Veli-Matti 
LOCATION:Espoonlahti 1
SUMMARY:Pallokerho 2 - Helsingin Hokkarit\, Espoonlahti 1
BEGIN:VALARM
TRIGGER:-PT60M
ACTION:DISPLAY
END:VALARM
END:VEVENT
BEGIN:VEVENT
DTSTART:20260410T183000Z
DTEND:20260410T203000Z
UID:25574
DTSTAMP:20260421T085934Z
DESCRIPTION:Tuomarit: Silvast Juha
LOCATION:Espoonlahti 1
SUMMARY:Marjanpoimijat - Pallokerho 2\, Espoonlahti 1
BEGIN:VALARM
TRIGGER:-PT60M
ACTION:DISPLAY
END:VALARM
END:VEVENT
BEGIN:VEVENT
DTSTART:20260412T181500Z
DTEND:20260412T201500Z
UID:25601
DTSTAMP:20260421T085934Z
DESCRIPTION:Tuomarit: 
LOCATION:Vuosaari 2
SUMMARY:R.O.U. - Pallokerho 2\, Vuosaari 2
BEGIN:VALARM
TRIGGER:-PT60M
ACTION:DISPLAY
END:VALARM
END:VEVENT
END:VCALENDAR