BEGIN:VCALENDAR
VERSION:2.0
PRODID:-//Helsingin Kaukalopallo Ry//Ottelukalenteri//FI
CALSCALE:GREGORIAN
BEGIN:VEVENT
DTSTART:20250925T183000Z
DTEND:20250925T203000Z
UID:25251
DTSTAMP:20260421T085854Z
DESCRIPTION:Tuomarit: Schuravleff Tony
LOCATION:Espoonlahti 1
SUMMARY:City Horo-40 - Pallokerho-40\, Espoonlahti 1
BEGIN:VALARM
TRIGGER:-PT60M
ACTION:DISPLAY
END:VALARM
END:VEVENT
BEGIN:VEVENT
DTSTART:20251013T184500Z
DTEND:20251013T204500Z
UID:25253
DTSTAMP:20260421T085854Z
DESCRIPTION:Tuomarit: Schuravleff Tony
LOCATION:Espoonlahti 1
SUMMARY:Pallokerho-40 - Hamarin Elo 40\, Espoonlahti 1
BEGIN:VALARM
TRIGGER:-PT60M
ACTION:DISPLAY
END:VALARM
END:VEVENT
BEGIN:VEVENT
DTSTART:20251027T193000Z
DTEND:20251027T213000Z
UID:25249
DTSTAMP:20260421T085854Z
DESCRIPTION:Tuomarit: Holmberg Kristian
LOCATION:Porvoo 1
SUMMARY:Tolkis Bollklubb - Pallokerho-40\, Porvoo 1
BEGIN:VALARM
TRIGGER:-PT60M
ACTION:DISPLAY
END:VALARM
END:VEVENT
BEGIN:VEVENT
DTSTART:20251106T193000Z
DTEND:20251106T213000Z
UID:25255
DTSTAMP:20260421T085854Z
DESCRIPTION:Tuomarit: Schuravleff Tony
LOCATION:Espoonlahti 1
SUMMARY:Pallokerho-40 - Tolkis Bollklubb\, Espoonlahti 1
BEGIN:VALARM
TRIGGER:-PT60M
ACTION:DISPLAY
END:VALARM
END:VEVENT
BEGIN:VEVENT
DTSTART:20251128T193000Z
DTEND:20251128T213000Z
UID:25259
DTSTAMP:20260421T085854Z
DESCRIPTION:Tuomarit: Antikainen Marko
LOCATION:Espoonlahti 1
SUMMARY:Pallokerho-40 - City Horo-40\, Espoonlahti 1
BEGIN:VALARM
TRIGGER:-PT60M
ACTION:DISPLAY
END:VALARM
END:VEVENT
BEGIN:VEVENT
DTSTART:20251204T191500Z
DTEND:20251204T211500Z
UID:25257
DTSTAMP:20260421T085854Z
DESCRIPTION:Tuomarit: Hukka Pauli
LOCATION:Porvoo 1
SUMMARY:Hamarin Elo 40 - Pallokerho-40\, Porvoo 1
BEGIN:VALARM
TRIGGER:-PT60M
ACTION:DISPLAY
END:VALARM
END:VEVENT
BEGIN:VEVENT
DTSTART:20260116T193000Z
DTEND:20260116T213000Z
UID:25260
DTSTAMP:20260421T085854Z
DESCRIPTION:Tuomarit: Valve Santeri
LOCATION:Espoonlahti 1
SUMMARY:Pallokerho-40 - Hamarin Elo 40\, Espoonlahti 1
BEGIN:VALARM
TRIGGER:-PT60M
ACTION:DISPLAY
END:VALARM
END:VEVENT
BEGIN:VEVENT
DTSTART:20260130T193000Z
DTEND:20260130T213000Z
UID:25261
DTSTAMP:20260421T085854Z
DESCRIPTION:Tuomarit: 
LOCATION:Espoonlahti 1
SUMMARY:Pallokerho-40 - City Horo-40\, Espoonlahti 1
BEGIN:VALARM
TRIGGER:-PT60M
ACTION:DISPLAY
END:VALARM
END:VEVENT
BEGIN:VEVENT
DTSTART:20260305T191500Z
DTEND:20260305T211500Z
UID:25264
DTSTAMP:20260421T085854Z
DESCRIPTION:Tuomarit: Holmberg Kristian
LOCATION:Porvoo 1
SUMMARY:Tolkis Bollklubb - Pallokerho-40\, Porvoo 1
BEGIN:VALARM
TRIGGER:-PT60M
ACTION:DISPLAY
END:VALARM
END:VEVENT
BEGIN:VEVENT
DTSTART:20260312T191500Z
DTEND:20260312T211500Z
UID:25266
DTSTAMP:20260421T085854Z
DESCRIPTION:Tuomarit: Holmberg Kristian
LOCATION:Porvoo 1
SUMMARY:Hamarin Elo 40 - Pallokerho-40\, Porvoo 1
BEGIN:VALARM
TRIGGER:-PT60M
ACTION:DISPLAY
END:VALARM
END:VEVENT
BEGIN:VEVENT
DTSTART:20260326T193000Z
DTEND:20260326T213000Z
UID:25267
DTSTAMP:20260421T085854Z
DESCRIPTION:Tuomarit: Schuravleff Tony
LOCATION:Espoonlahti 1
SUMMARY:City Horo-40 - Pallokerho-40\, Espoonlahti 1
BEGIN:VALARM
TRIGGER:-PT60M
ACTION:DISPLAY
END:VALARM
END:VEVENT
BEGIN:VEVENT
DTSTART:20260330T184500Z
DTEND:20260330T204500Z
UID:25269
DTSTAMP:20260421T085854Z
DESCRIPTION:Tuomarit: Schuravleff Tony
LOCATION:Espoonlahti 1
SUMMARY:Pallokerho-40 - Tolkis Bollklubb\, Espoonlahti 1
BEGIN:VALARM
TRIGGER:-PT60M
ACTION:DISPLAY
END:VALARM
END:VEVENT
BEGIN:VEVENT
DTSTART:20260425T123000Z
DTEND:20260425T143000Z
UID:25841
DTSTAMP:20260421T085854Z
DESCRIPTION:Tuomarit: Antikainen Marko\, Valve Santeri
LOCATION:Myllypuro 1
SUMMARY:Hamarin Elo 40 - Pallokerho-40\, Myllypuro 1
BEGIN:VALARM
TRIGGER:-PT60M
ACTION:DISPLAY
END:VALARM
END:VEVENT
END:VCALENDAR