BEGIN:VCALENDAR
VERSION:2.0
PRODID:-//Helsingin Kaukalopallo Ry//Ottelukalenteri//FI
CALSCALE:GREGORIAN
BEGIN:VEVENT
DTSTART:20250911T040000Z
DTEND:20250911T060000Z
UID:24866
DTSTAMP:20260421T085854Z
DESCRIPTION:Tuomarit: Bäckström Miikka
LOCATION:Myllypuro 1
SUMMARY:PiTKi-aamu - Vaisala\, Myllypuro 1
BEGIN:VALARM
TRIGGER:-PT60M
ACTION:DISPLAY
END:VALARM
END:VEVENT
BEGIN:VEVENT
DTSTART:20250918T040000Z
DTEND:20250918T060000Z
UID:24867
DTSTAMP:20260421T085854Z
DESCRIPTION:Tuomarit: Lintula Olli-Pekka
LOCATION:Kauniainen
SUMMARY:TellBalls - Vaisala\, Kauniainen
BEGIN:VALARM
TRIGGER:-PT60M
ACTION:DISPLAY
END:VALARM
END:VEVENT
BEGIN:VEVENT
DTSTART:20251002T040000Z
DTEND:20251002T060000Z
UID:24872
DTSTAMP:20260421T085854Z
DESCRIPTION:Tuomarit: Lintula Olli-Pekka
LOCATION:Myllypuro 1
SUMMARY:Nordea - Vaisala\, Myllypuro 1
BEGIN:VALARM
TRIGGER:-PT60M
ACTION:DISPLAY
END:VALARM
END:VEVENT
BEGIN:VEVENT
DTSTART:20251023T040000Z
DTEND:20251023T060000Z
UID:24878
DTSTAMP:20260421T085854Z
DESCRIPTION:Tuomarit: Viita Olli
LOCATION:Myyrmäki 1
SUMMARY:Vaisala - Thermo Fisher\, Myyrmäki 1
BEGIN:VALARM
TRIGGER:-PT60M
ACTION:DISPLAY
END:VALARM
END:VEVENT
BEGIN:VEVENT
DTSTART:20251106T050000Z
DTEND:20251106T070000Z
UID:24880
DTSTAMP:20260421T085854Z
DESCRIPTION:Tuomarit: Silvast Juha
LOCATION:Myyrmäki 1
SUMMARY:Vaisala - Erä Aamu\, Myyrmäki 1
BEGIN:VALARM
TRIGGER:-PT60M
ACTION:DISPLAY
END:VALARM
END:VEVENT
BEGIN:VEVENT
DTSTART:20251113T050000Z
DTEND:20251113T070000Z
UID:24889
DTSTAMP:20260421T085854Z
DESCRIPTION:Tuomarit: Viippola Veli-Matti 
LOCATION:Myyrmäki 1
SUMMARY:Vaisala - TellBalls\, Myyrmäki 1
BEGIN:VALARM
TRIGGER:-PT60M
ACTION:DISPLAY
END:VALARM
END:VEVENT
BEGIN:VEVENT
DTSTART:20251120T050000Z
DTEND:20251120T070000Z
UID:25623
DTSTAMP:20260421T085854Z
DESCRIPTION:Tuomarit: Viippola Veli-Matti 
LOCATION:Myyrmäki 1
SUMMARY:Vaisala - Hedengren \, Myyrmäki 1
BEGIN:VALARM
TRIGGER:-PT60M
ACTION:DISPLAY
END:VALARM
END:VEVENT
BEGIN:VEVENT
DTSTART:20251126T044500Z
DTEND:20251126T064500Z
UID:24886
DTSTAMP:20260421T085854Z
DESCRIPTION:Tuomarit: Lintula Olli-Pekka
LOCATION:Paloheinä 2
SUMMARY:HYKS - Vaisala\, Paloheinä 2
BEGIN:VALARM
TRIGGER:-PT60M
ACTION:DISPLAY
END:VALARM
END:VEVENT
BEGIN:VEVENT
DTSTART:20251210T051500Z
DTEND:20251210T071500Z
UID:24890
DTSTAMP:20260421T085854Z
DESCRIPTION:Tuomarit: Virtanen Timo
LOCATION:Myyrmäki 1
SUMMARY:Vaisala - PiTKi-aamu\, Myyrmäki 1
BEGIN:VALARM
TRIGGER:-PT60M
ACTION:DISPLAY
END:VALARM
END:VEVENT
BEGIN:VEVENT
DTSTART:20251218T050000Z
DTEND:20251218T070000Z
UID:24893
DTSTAMP:20260421T085854Z
DESCRIPTION:Tuomarit: Viita Olli
LOCATION:Myllypuro 1
SUMMARY:Erä Aamu - Vaisala\, Myllypuro 1
BEGIN:VALARM
TRIGGER:-PT60M
ACTION:DISPLAY
END:VALARM
END:VEVENT
BEGIN:VEVENT
DTSTART:20260107T051500Z
DTEND:20260107T071500Z
UID:24895
DTSTAMP:20260421T085854Z
DESCRIPTION:Tuomarit: Viippola Veli-Matti 
LOCATION:Myyrmäki 1
SUMMARY:Vaisala - Nordea\, Myyrmäki 1
BEGIN:VALARM
TRIGGER:-PT60M
ACTION:DISPLAY
END:VALARM
END:VEVENT
BEGIN:VEVENT
DTSTART:20260114T051500Z
DTEND:20260114T071500Z
UID:25624
DTSTAMP:20260421T085854Z
DESCRIPTION:Tuomarit: Virtanen Timo
LOCATION:Myyrmäki 1
SUMMARY:Vaisala - Hedengren \, Myyrmäki 1
BEGIN:VALARM
TRIGGER:-PT60M
ACTION:DISPLAY
END:VALARM
END:VEVENT
BEGIN:VEVENT
DTSTART:20260121T051500Z
DTEND:20260121T071500Z
UID:24898
DTSTAMP:20260421T085854Z
DESCRIPTION:Tuomarit: Viita Olli
LOCATION:Myyrmäki 1
SUMMARY:Thermo Fisher - Vaisala\, Myyrmäki 1
BEGIN:VALARM
TRIGGER:-PT60M
ACTION:DISPLAY
END:VALARM
END:VEVENT
BEGIN:VEVENT
DTSTART:20260128T051500Z
DTEND:20260128T071500Z
UID:24862
DTSTAMP:20260421T085854Z
DESCRIPTION:Tuomarit: Virtanen Timo
LOCATION:Myyrmäki 1
SUMMARY:PiTKi-aamu - Vaisala\, Myyrmäki 1
BEGIN:VALARM
TRIGGER:-PT60M
ACTION:DISPLAY
END:VALARM
END:VEVENT
BEGIN:VEVENT
DTSTART:20260204T051500Z
DTEND:20260204T071500Z
UID:24875
DTSTAMP:20260421T085854Z
DESCRIPTION:Tuomarit: Virtanen Timo
LOCATION:Myyrmäki 1
SUMMARY:Vaisala - HYKS\, Myyrmäki 1
BEGIN:VALARM
TRIGGER:-PT60M
ACTION:DISPLAY
END:VALARM
END:VEVENT
BEGIN:VEVENT
DTSTART:20260225T051500Z
DTEND:20260225T071500Z
UID:24906
DTSTAMP:20260421T085854Z
DESCRIPTION:Tuomarit: Viita Olli
LOCATION:Myyrmäki 1
SUMMARY:TellBalls - Vaisala\, Myyrmäki 1
BEGIN:VALARM
TRIGGER:-PT60M
ACTION:DISPLAY
END:VALARM
END:VEVENT
BEGIN:VEVENT
DTSTART:20260311T051500Z
DTEND:20260311T071500Z
UID:24910
DTSTAMP:20260421T085854Z
DESCRIPTION:Tuomarit: Virtanen Timo
LOCATION:Myyrmäki 1
SUMMARY:Vaisala - Erä Aamu\, Myyrmäki 1
BEGIN:VALARM
TRIGGER:-PT60M
ACTION:DISPLAY
END:VALARM
END:VEVENT
BEGIN:VEVENT
DTSTART:20260325T051500Z
DTEND:20260325T071500Z
UID:24914
DTSTAMP:20260421T085854Z
DESCRIPTION:Tuomarit: Viita Olli
LOCATION:Myyrmäki 1
SUMMARY:Vaisala - HYKS\, Myyrmäki 1
BEGIN:VALARM
TRIGGER:-PT60M
ACTION:DISPLAY
END:VALARM
END:VEVENT
BEGIN:VEVENT
DTSTART:20260402T040000Z
DTEND:20260402T060000Z
UID:24917
DTSTAMP:20260421T085854Z
DESCRIPTION:Tuomarit: Eväkoski Jarno
LOCATION:Myllypuro 1
SUMMARY:Nordea - Vaisala\, Myllypuro 1
BEGIN:VALARM
TRIGGER:-PT60M
ACTION:DISPLAY
END:VALARM
END:VEVENT
BEGIN:VEVENT
DTSTART:20260410T041500Z
DTEND:20260410T061500Z
UID:25614
DTSTAMP:20260421T085854Z
DESCRIPTION:Tuomarit: Lintula Olli-Pekka
LOCATION:Matinkylä harj halli
SUMMARY:Hedengren  - Vaisala\, Matinkylä harj halli
BEGIN:VALARM
TRIGGER:-PT60M
ACTION:DISPLAY
END:VALARM
END:VEVENT
BEGIN:VEVENT
DTSTART:20260415T041500Z
DTEND:20260415T061500Z
UID:24920
DTSTAMP:20260421T085854Z
DESCRIPTION:Tuomarit: Lintula Olli-Pekka
LOCATION:Myyrmäki 1
SUMMARY:Vaisala - Thermo Fisher\, Myyrmäki 1
BEGIN:VALARM
TRIGGER:-PT60M
ACTION:DISPLAY
END:VALARM
END:VEVENT
END:VCALENDAR