BEGIN:VCALENDAR
VERSION:2.0
PRODID:-//Helsingin Kaukalopallo Ry//Ottelukalenteri//FI
CALSCALE:GREGORIAN
BEGIN:VEVENT
DTSTART:20250910T040000Z
DTEND:20250910T060000Z
UID:24864
DTSTAMP:20260421T085935Z
DESCRIPTION:Tuomarit: Bäckström Miikka
LOCATION:Myllypuro 2
SUMMARY:Thermo Fisher - Erä Aamu\, Myllypuro 2
BEGIN:VALARM
TRIGGER:-PT60M
ACTION:DISPLAY
END:VALARM
END:VEVENT
BEGIN:VEVENT
DTSTART:20250925T040000Z
DTEND:20250925T060000Z
UID:24870
DTSTAMP:20260421T085935Z
DESCRIPTION:Tuomarit: Bäckström Miikka
LOCATION:Myllypuro 1
SUMMARY:Erä Aamu - TellBalls\, Myllypuro 1
BEGIN:VALARM
TRIGGER:-PT60M
ACTION:DISPLAY
END:VALARM
END:VEVENT
BEGIN:VEVENT
DTSTART:20251010T041500Z
DTEND:20251010T061500Z
UID:25609
DTSTAMP:20260421T085935Z
DESCRIPTION:Tuomarit: Lintula Olli-Pekka
LOCATION:Matinkylä harj halli
SUMMARY:Hedengren  - Erä Aamu\, Matinkylä harj halli
BEGIN:VALARM
TRIGGER:-PT60M
ACTION:DISPLAY
END:VALARM
END:VEVENT
BEGIN:VEVENT
DTSTART:20251016T040000Z
DTEND:20251016T060000Z
UID:24876
DTSTAMP:20260421T085935Z
DESCRIPTION:Tuomarit: Lintula Olli-Pekka
LOCATION:Myllypuro 1
SUMMARY:Nordea - Erä Aamu\, Myllypuro 1
BEGIN:VALARM
TRIGGER:-PT60M
ACTION:DISPLAY
END:VALARM
END:VEVENT
BEGIN:VEVENT
DTSTART:20251023T040000Z
DTEND:20251023T060000Z
UID:24877
DTSTAMP:20260421T085935Z
DESCRIPTION:Tuomarit: Virtanen Timo
LOCATION:Myllypuro 1
SUMMARY:Erä Aamu - HYKS\, Myllypuro 1
BEGIN:VALARM
TRIGGER:-PT60M
ACTION:DISPLAY
END:VALARM
END:VEVENT
BEGIN:VEVENT
DTSTART:20251106T050000Z
DTEND:20251106T070000Z
UID:24880
DTSTAMP:20260421T085935Z
DESCRIPTION:Tuomarit: Silvast Juha
LOCATION:Myyrmäki 1
SUMMARY:Vaisala - Erä Aamu\, Myyrmäki 1
BEGIN:VALARM
TRIGGER:-PT60M
ACTION:DISPLAY
END:VALARM
END:VEVENT
BEGIN:VEVENT
DTSTART:20251120T050000Z
DTEND:20251120T070000Z
UID:24885
DTSTAMP:20260421T085935Z
DESCRIPTION:Tuomarit: Viita Olli
LOCATION:Myllypuro 1
SUMMARY:Erä Aamu - PiTKi-aamu\, Myllypuro 1
BEGIN:VALARM
TRIGGER:-PT60M
ACTION:DISPLAY
END:VALARM
END:VEVENT
BEGIN:VEVENT
DTSTART:20251203T044500Z
DTEND:20251203T064500Z
UID:24887
DTSTAMP:20260421T085935Z
DESCRIPTION:Tuomarit: Viita Olli
LOCATION:Paloheinä 2
SUMMARY:HYKS - Erä Aamu\, Paloheinä 2
BEGIN:VALARM
TRIGGER:-PT60M
ACTION:DISPLAY
END:VALARM
END:VEVENT
BEGIN:VEVENT
DTSTART:20251218T050000Z
DTEND:20251218T070000Z
UID:24893
DTSTAMP:20260421T085935Z
DESCRIPTION:Tuomarit: Viita Olli
LOCATION:Myllypuro 1
SUMMARY:Erä Aamu - Vaisala\, Myllypuro 1
BEGIN:VALARM
TRIGGER:-PT60M
ACTION:DISPLAY
END:VALARM
END:VEVENT
BEGIN:VEVENT
DTSTART:20260115T050000Z
DTEND:20260115T070000Z
UID:24896
DTSTAMP:20260421T085935Z
DESCRIPTION:Tuomarit: Lintula Olli-Pekka
LOCATION:Kauniainen
SUMMARY:TellBalls - Erä Aamu\, Kauniainen
BEGIN:VALARM
TRIGGER:-PT60M
ACTION:DISPLAY
END:VALARM
END:VEVENT
BEGIN:VEVENT
DTSTART:20260120T050000Z
DTEND:20260120T070000Z
UID:25619
DTSTAMP:20260421T085935Z
DESCRIPTION:Tuomarit: Viita Olli
LOCATION:Myllypuro 2
SUMMARY:Erä Aamu - Hedengren \, Myllypuro 2
BEGIN:VALARM
TRIGGER:-PT60M
ACTION:DISPLAY
END:VALARM
END:VEVENT
BEGIN:VEVENT
DTSTART:20260127T050000Z
DTEND:20260127T070000Z
UID:25620
DTSTAMP:20260421T085935Z
DESCRIPTION:Tuomarit: Viita Olli
LOCATION:Myllypuro 2
SUMMARY:Erä Aamu - Hedengren \, Myllypuro 2
BEGIN:VALARM
TRIGGER:-PT60M
ACTION:DISPLAY
END:VALARM
END:VEVENT
BEGIN:VEVENT
DTSTART:20260129T050000Z
DTEND:20260129T070000Z
UID:24900
DTSTAMP:20260421T085935Z
DESCRIPTION:Tuomarit: Lintula Olli-Pekka
LOCATION:Myllypuro 1
SUMMARY:Erä Aamu - Nordea\, Myllypuro 1
BEGIN:VALARM
TRIGGER:-PT60M
ACTION:DISPLAY
END:VALARM
END:VEVENT
BEGIN:VEVENT
DTSTART:20260212T050000Z
DTEND:20260212T070000Z
UID:24904
DTSTAMP:20260421T085935Z
DESCRIPTION:Tuomarit: Viita Olli
LOCATION:Myllypuro 1
SUMMARY:PiTKi-aamu - Erä Aamu\, Myllypuro 1
BEGIN:VALARM
TRIGGER:-PT60M
ACTION:DISPLAY
END:VALARM
END:VEVENT
BEGIN:VEVENT
DTSTART:20260226T050000Z
DTEND:20260226T070000Z
UID:24860
DTSTAMP:20260421T085935Z
DESCRIPTION:Tuomarit: Viita Olli
LOCATION:Myllypuro 1
SUMMARY:Erä Aamu - HYKS\, Myllypuro 1
BEGIN:VALARM
TRIGGER:-PT60M
ACTION:DISPLAY
END:VALARM
END:VEVENT
BEGIN:VEVENT
DTSTART:20260304T050000Z
DTEND:20260304T070000Z
UID:24907
DTSTAMP:20260421T085935Z
DESCRIPTION:Tuomarit: Viita Olli
LOCATION:Myllypuro 2
SUMMARY:Erä Aamu - Thermo Fisher\, Myllypuro 2
BEGIN:VALARM
TRIGGER:-PT60M
ACTION:DISPLAY
END:VALARM
END:VEVENT
BEGIN:VEVENT
DTSTART:20260311T051500Z
DTEND:20260311T071500Z
UID:24910
DTSTAMP:20260421T085935Z
DESCRIPTION:Tuomarit: Virtanen Timo
LOCATION:Myyrmäki 1
SUMMARY:Vaisala - Erä Aamu\, Myyrmäki 1
BEGIN:VALARM
TRIGGER:-PT60M
ACTION:DISPLAY
END:VALARM
END:VEVENT
BEGIN:VEVENT
DTSTART:20260319T050000Z
DTEND:20260319T070000Z
UID:24913
DTSTAMP:20260421T085935Z
DESCRIPTION:Tuomarit: Lintula Olli-Pekka
LOCATION:Myllypuro 1
SUMMARY:Nordea - Erä Aamu\, Myllypuro 1
BEGIN:VALARM
TRIGGER:-PT60M
ACTION:DISPLAY
END:VALARM
END:VEVENT
BEGIN:VEVENT
DTSTART:20260326T050000Z
DTEND:20260326T070000Z
UID:24915
DTSTAMP:20260421T085935Z
DESCRIPTION:Tuomarit: Viita Olli
LOCATION:Myllypuro 1
SUMMARY:Erä Aamu - PiTKi-aamu\, Myllypuro 1
BEGIN:VALARM
TRIGGER:-PT60M
ACTION:DISPLAY
END:VALARM
END:VEVENT
BEGIN:VEVENT
DTSTART:20260408T040000Z
DTEND:20260408T060000Z
UID:24918
DTSTAMP:20260421T085935Z
DESCRIPTION:Tuomarit: Virtanen Timo
LOCATION:Myllypuro 2
SUMMARY:Thermo Fisher - Erä Aamu\, Myllypuro 2
BEGIN:VALARM
TRIGGER:-PT60M
ACTION:DISPLAY
END:VALARM
END:VEVENT
BEGIN:VEVENT
DTSTART:20260415T040000Z
DTEND:20260415T060000Z
UID:24861
DTSTAMP:20260421T085935Z
DESCRIPTION:Tuomarit: Virtanen Timo
LOCATION:Myllypuro 2
SUMMARY:Erä Aamu - TellBalls\, Myllypuro 2
BEGIN:VALARM
TRIGGER:-PT60M
ACTION:DISPLAY
END:VALARM
END:VEVENT
BEGIN:VEVENT
DTSTART:20260421T040000Z
DTEND:20260421T060000Z
UID:25851
DTSTAMP:20260421T085935Z
DESCRIPTION:Tuomarit: Viita Olli
LOCATION:Myllypuro 2
SUMMARY:PiTKi-aamu - Erä Aamu\, Myllypuro 2
BEGIN:VALARM
TRIGGER:-PT60M
ACTION:DISPLAY
END:VALARM
END:VEVENT
END:VCALENDAR