BEGIN:VCALENDAR
VERSION:2.0
PRODID:-//Helsingin Kaukalopallo Ry//Ottelukalenteri//FI
CALSCALE:GREGORIAN
BEGIN:VEVENT
DTSTART:20250919T183000Z
DTEND:20250919T203000Z
UID:25107
DTSTAMP:20260421T085749Z
DESCRIPTION:Tuomarit: Säteri Jussi\, Viita Olli
LOCATION:Espoonlahti 1
SUMMARY:Pallokerho 1 - Etä-Muki\, Espoonlahti 1
BEGIN:VALARM
TRIGGER:-PT60M
ACTION:DISPLAY
END:VALARM
END:VEVENT
BEGIN:VEVENT
DTSTART:20250929T181500Z
DTEND:20250929T201500Z
UID:25109
DTSTAMP:20260421T085749Z
DESCRIPTION:Tuomarit: Hyväri Tero\, Säteri Jussi
LOCATION:Kaarela 2
SUMMARY:Etä-Muki - Oulunkylän Ducks\, Kaarela 2
BEGIN:VALARM
TRIGGER:-PT60M
ACTION:DISPLAY
END:VALARM
END:VEVENT
BEGIN:VEVENT
DTSTART:20251007T181500Z
DTEND:20251007T201500Z
UID:25114
DTSTAMP:20260421T085749Z
DESCRIPTION:Tuomarit: Antikainen Marko\, Pirttinen Pauli
LOCATION:Paloheinä 2
SUMMARY:MyPS - Etä-Muki\, Paloheinä 2
BEGIN:VALARM
TRIGGER:-PT60M
ACTION:DISPLAY
END:VALARM
END:VEVENT
BEGIN:VEVENT
DTSTART:20251020T181500Z
DTEND:20251020T201500Z
UID:25120
DTSTAMP:20260421T085749Z
DESCRIPTION:Tuomarit: Antikainen Marko\, Säteri Jussi
LOCATION:Kaarela 2
SUMMARY:Etä-Muki - Bewe Hä\, Kaarela 2
BEGIN:VALARM
TRIGGER:-PT60M
ACTION:DISPLAY
END:VALARM
END:VEVENT
BEGIN:VEVENT
DTSTART:20251106T191500Z
DTEND:20251106T211500Z
UID:25104
DTSTAMP:20260421T085749Z
DESCRIPTION:Tuomarit: Holmberg Kristian\, Hukka Pauli
LOCATION:Porvoo 1
SUMMARY:Hamarin Elo - Etä-Muki\, Porvoo 1
BEGIN:VALARM
TRIGGER:-PT60M
ACTION:DISPLAY
END:VALARM
END:VEVENT
BEGIN:VEVENT
DTSTART:20251110T191500Z
DTEND:20251110T211500Z
UID:25123
DTSTAMP:20260421T085749Z
DESCRIPTION:Tuomarit: Jäkkö Marko\, Lehtonen Ari
LOCATION:Kaarela 2
SUMMARY:Etä-Muki - City Horo\, Kaarela 2
BEGIN:VALARM
TRIGGER:-PT60M
ACTION:DISPLAY
END:VALARM
END:VEVENT
BEGIN:VEVENT
DTSTART:20251117T191500Z
DTEND:20251117T211500Z
UID:25125
DTSTAMP:20260421T085749Z
DESCRIPTION:Tuomarit: Jäkkö Marko\, Pirttinen Pauli
LOCATION:Kaarela 2
SUMMARY:Oulunkylän Ducks - Etä-Muki\, Kaarela 2
BEGIN:VALARM
TRIGGER:-PT60M
ACTION:DISPLAY
END:VALARM
END:VEVENT
BEGIN:VEVENT
DTSTART:20251208T191500Z
DTEND:20251208T211500Z
UID:25132
DTSTAMP:20260421T085749Z
DESCRIPTION:Tuomarit: Antikainen Marko\, Schuravleff Tony
LOCATION:Kaarela 2
SUMMARY:Etä-Muki - Hamarin Elo\, Kaarela 2
BEGIN:VALARM
TRIGGER:-PT60M
ACTION:DISPLAY
END:VALARM
END:VEVENT
BEGIN:VEVENT
DTSTART:20251214T171500Z
DTEND:20251214T191500Z
UID:25097
DTSTAMP:20260421T085749Z
DESCRIPTION:Tuomarit: Jäkkö Marko\, Lehtonen Ari
LOCATION:Paloheinä 2
SUMMARY:Bewe Hä - Etä-Muki\, Paloheinä 2
BEGIN:VALARM
TRIGGER:-PT60M
ACTION:DISPLAY
END:VALARM
END:VEVENT
BEGIN:VEVENT
DTSTART:20260112T191500Z
DTEND:20260112T211500Z
UID:25137
DTSTAMP:20260421T085749Z
DESCRIPTION:Tuomarit: Jäkkö Marko\, Säteri Jussi
LOCATION:Kaarela 2
SUMMARY:Etä-Muki - MyPS\, Kaarela 2
BEGIN:VALARM
TRIGGER:-PT60M
ACTION:DISPLAY
END:VALARM
END:VEVENT
BEGIN:VEVENT
DTSTART:20260202T191500Z
DTEND:20260202T211500Z
UID:25142
DTSTAMP:20260421T085749Z
DESCRIPTION:Tuomarit: Hyväri Tero\, Säteri Jussi
LOCATION:Kaarela 2
SUMMARY:Etä-Muki - Pallokerho 1\, Kaarela 2
BEGIN:VALARM
TRIGGER:-PT60M
ACTION:DISPLAY
END:VALARM
END:VEVENT
BEGIN:VEVENT
DTSTART:20260223T191500Z
DTEND:20260223T211500Z
UID:25150
DTSTAMP:20260421T085749Z
DESCRIPTION:Tuomarit: Lehtonen Ari\, Pirttinen Pauli
LOCATION:Kaarela 2
SUMMARY:Etä-Muki - Oulunkylän Ducks\, Kaarela 2
BEGIN:VALARM
TRIGGER:-PT60M
ACTION:DISPLAY
END:VALARM
END:VEVENT
BEGIN:VEVENT
DTSTART:20260224T193000Z
DTEND:20260224T213000Z
UID:25149
DTSTAMP:20260421T085749Z
DESCRIPTION:Tuomarit: Henttonen Jarkko\, Pirttinen Pauli
LOCATION:Myllypuro 2
SUMMARY:City Horo - Etä-Muki\, Myllypuro 2
BEGIN:VALARM
TRIGGER:-PT60M
ACTION:DISPLAY
END:VALARM
END:VEVENT
BEGIN:VEVENT
DTSTART:20260309T194500Z
DTEND:20260309T214500Z
UID:25159
DTSTAMP:20260421T085749Z
DESCRIPTION:Tuomarit: Schuravleff Tony\, Valve Santeri
LOCATION:Espoonlahti 1
SUMMARY:Pallokerho 1 - Etä-Muki\, Espoonlahti 1
BEGIN:VALARM
TRIGGER:-PT60M
ACTION:DISPLAY
END:VALARM
END:VEVENT
BEGIN:VEVENT
DTSTART:20260319T191500Z
DTEND:20260319T211500Z
UID:25163
DTSTAMP:20260421T085749Z
DESCRIPTION:Tuomarit: Holmberg Kristian\, Törnqvist Dick
LOCATION:Porvoo 1
SUMMARY:Hamarin Elo - Etä-Muki\, Porvoo 1
BEGIN:VALARM
TRIGGER:-PT60M
ACTION:DISPLAY
END:VALARM
END:VEVENT
BEGIN:VEVENT
DTSTART:20260330T181500Z
DTEND:20260330T201500Z
UID:25166
DTSTAMP:20260421T085749Z
DESCRIPTION:Tuomarit: Hyväri Tero\, Jäkkö Marko
LOCATION:Kaarela 2
SUMMARY:Etä-Muki - City Horo\, Kaarela 2
BEGIN:VALARM
TRIGGER:-PT60M
ACTION:DISPLAY
END:VALARM
END:VEVENT
BEGIN:VEVENT
DTSTART:20260407T181500Z
DTEND:20260407T201500Z
UID:25169
DTSTAMP:20260421T085749Z
DESCRIPTION:Tuomarit: Lehtonen Ari\, Säteri Jussi
LOCATION:Paloheinä 2
SUMMARY:MyPS - Etä-Muki\, Paloheinä 2
BEGIN:VALARM
TRIGGER:-PT60M
ACTION:DISPLAY
END:VALARM
END:VEVENT
BEGIN:VEVENT
DTSTART:20260413T181500Z
DTEND:20260413T201500Z
UID:25172
DTSTAMP:20260421T085749Z
DESCRIPTION:Tuomarit: Hyväri Tero\, Säteri Jussi
LOCATION:Kaarela 2
SUMMARY:Etä-Muki - Bewe Hä\, Kaarela 2
BEGIN:VALARM
TRIGGER:-PT60M
ACTION:DISPLAY
END:VALARM
END:VEVENT
END:VCALENDAR